BEGIN:VCALENDAR
VERSION:2.0
PRODID:-//wp-events-plugin.com//7.2.3.1//EN
TZID:Europe/Berlin
X-WR-TIMEZONE:Europe/Berlin
BEGIN:VEVENT
UID:405@digitalzentrum-rostock.de
DTSTART;TZID=Europe/Berlin:20260527T160000
DTEND;TZID=Europe/Berlin:20260527T170000
DTSTAMP:20260319T105337Z
URL:https://www.digitalzentrum-rostock.de/events/workshop-raum-circular-by
 -design-mit-digitalen-tools-den-kreislauf-gestalten/
SUMMARY:Workshop: „Circular by Design“ – Mit digitalen Tools den Krei
 slauf gestalten
DESCRIPTION:Wie plant man zirkulär? Im Workshop „Circular by Design“ m
 it Mandy Kaden und Kassandra Hellicar (Hochschule Wismar/ Mittelstand-Digi
 tal Zentrum Rostock) lernen die Teilnehmenden\, wie sich zirkuläre Ansä
 tze gezielt in Architekturprojekte integrieren lassen. Gemeinsam werden Pl
 anungsentscheidungen auf Grundlage des Gebäuderessourcenpasses entwickelt
  und hinsichtlich ihrer Kreislauffähigkeit sowie Innovationskraft bewerte
 t. Der Workshop bietet Raum für fachlichen Austausch\, kreative Diskussio
 nen und interdisziplinäres Networking.\n\nDieser Workshop findet in Works
 hopraum 2 im Rahmen der Nørd 2026 statt. Mehr Infos zur größten Digital
 messe im Norden: https://www.digitalesmv.de/noerd
ATTACH;FMTTYPE=image/jpeg:https://www.digitalzentrum-rostock.de/wp-content
 /uploads/2026/03/noerd_partner_4zu5-e1773916455188.png
CATEGORIES:branchenübergreifend
LOCATION:HanseMesse Rostock\, Zur HanseMesse 1-2\, Rostock\, Mecklenburg-Vo
 rpommern\, 18106\, Deutschland
X-APPLE-STRUCTURED-LOCATION;VALUE=URI;X-ADDRESS=Zur HanseMesse 1-2\, Rostoc
 k\, Mecklenburg-Vorpommern\, 18106\, Deutschland;X-APPLE-RADIUS=100;X-TITL
 E=HanseMesse Rostock:geo:0,0
END:VEVENT
BEGIN:VTIMEZONE
TZID:Europe/Berlin
X-LIC-LOCATION:Europe/Berlin
BEGIN:DAYLIGHT
DTSTART:20260329T030000
TZOFFSETFROM:+0100
TZOFFSETTO:+0200
TZNAME:CEST
END:DAYLIGHT
END:VTIMEZONE
END:VCALENDAR