BEGIN:VCALENDAR
VERSION:2.0
PRODID:-//wp-events-plugin.com//7.2.3.1//EN
TZID:Europe/Berlin
X-WR-TIMEZONE:Europe/Berlin
BEGIN:VEVENT
UID:404@digitalzentrum-rostock.de
DTSTART;TZID=Europe/Berlin:20260527T160000
DTEND;TZID=Europe/Berlin:20260527T170000
DTSTAMP:20260319T105119Z
URL:https://www.digitalzentrum-rostock.de/events/workshop-mobile-demonstra
 tionswerkstatt-cobot-interaktiv-ausprobieren/
SUMMARY:Workshop: Mobile Demonstrationswerkstatt – Cobot interaktiv auspr
 obieren
DESCRIPTION:Wie verändern robotergestützte Prozesse den Holzbau? In der m
 obilen Demonstrationswerkstatt wird genau das erlebbar: Sie als Teilnehmen
 de tauchen direkt in die Welt der digitalen Vorfertigung ein und arbeiten 
 selbst mit einem Cobot.\nIm interaktiven Workshop mit Fiete Wulf und Aaron
  Schmidtke (Hochschule Wismar/ Mittelstand-Digital Zentrum Rostock) könne
 n Sie den Roboter eigenständig steuern\, grundlegende Bedienprinzipien ke
 nnenlernen und praktische Tricks ausprobieren. Dabei wird unmittelbar erfa
 hrbar\, wie durch gezielte Anleitung eine effektive Zusammenarbeit zwische
 n Mensch und Maschine entsteht – praxisnah\, verständlich und zum Mitma
 chen.\nDieser Workshop findet im Rahmen der Nørd 2026 in Raum 1 statt. Me
 hr Infos zur größten Digitalmesse im Norden: https://www.digitalesmv.de/
 noerd
ATTACH;FMTTYPE=image/jpeg:https://www.digitalzentrum-rostock.de/wp-content
 /uploads/2026/03/noerd_partner_4zu5-e1773916455188.png
CATEGORIES:branchenübergreifend
LOCATION:HanseMesse Rostock\, Zur HanseMesse 1-2\, Rostock\, Mecklenburg-Vo
 rpommern\, 18106\, Deutschland
X-APPLE-STRUCTURED-LOCATION;VALUE=URI;X-ADDRESS=Zur HanseMesse 1-2\, Rostoc
 k\, Mecklenburg-Vorpommern\, 18106\, Deutschland;X-APPLE-RADIUS=100;X-TITL
 E=HanseMesse Rostock:geo:0,0
END:VEVENT
BEGIN:VTIMEZONE
TZID:Europe/Berlin
X-LIC-LOCATION:Europe/Berlin
BEGIN:DAYLIGHT
DTSTART:20260329T030000
TZOFFSETFROM:+0100
TZOFFSETTO:+0200
TZNAME:CEST
END:DAYLIGHT
END:VTIMEZONE
END:VCALENDAR