BEGIN:VCALENDAR
VERSION:2.0
PRODID:-//wp-events-plugin.com//7.2.3.1//EN
TZID:Europe/Berlin
X-WR-TIMEZONE:Europe/Berlin
BEGIN:VEVENT
UID:406@digitalzentrum-rostock.de
DTSTART;TZID=Europe/Berlin:20260528T121500
DTEND;TZID=Europe/Berlin:20260528T131500
DTSTAMP:20260319T105143Z
URL:https://www.digitalzentrum-rostock.de/events/vortrag-im-workshop-re_so
 urcing-architecture-planen-im-kreislauf-unterstuetzt-durch-digitalisierung
 /
SUMMARY:Vortrag: Re_sourcing architecture - Planen im Kreislauf unterstütz
 t durch Digitalisierung“
DESCRIPTION:Der Vortrag von Kassandra Hellicar (Hochschule Wismar/ Mittelst
 and-Digital Zentrum Rostock) beleuchtet das Planen und Bauen im Kreislauf 
 als Ansatz für eine ressourcenschonende Architektur. Im Fokus stehen digi
 tale Werkzeuge und Methoden\, die eine zirkuläre Planung unterstützen. V
 on der systematischen Erfassung von Materialressourcen\, über digitale Ge
 bäudepässe\, bis zur datenbasierten Entscheidungsfindung werden praxisna
 he Strategien vorgestellt\, welche Nachhaltigkeit messbar und umsetzbar ma
 chen.\n\nDer Vortrag findet im Rahmen der Nørd 2026 im Workshop Raum 1 st
 att. Mehr Infos zur größten Digitalmesse im Norden: https://www.digitale
 smv.de/noerd
ATTACH;FMTTYPE=image/jpeg:https://www.digitalzentrum-rostock.de/wp-content
 /uploads/2026/03/noerd_partner_4zu5-e1773916455188.png
CATEGORIES:branchenübergreifend
LOCATION:HanseMesse Rostock\, Zur HanseMesse 1-2\, Rostock\, Mecklenburg-Vo
 rpommern\, 18106\, Deutschland
X-APPLE-STRUCTURED-LOCATION;VALUE=URI;X-ADDRESS=Zur HanseMesse 1-2\, Rostoc
 k\, Mecklenburg-Vorpommern\, 18106\, Deutschland;X-APPLE-RADIUS=100;X-TITL
 E=HanseMesse Rostock:geo:0,0
END:VEVENT
BEGIN:VTIMEZONE
TZID:Europe/Berlin
X-LIC-LOCATION:Europe/Berlin
BEGIN:DAYLIGHT
DTSTART:20260329T030000
TZOFFSETFROM:+0100
TZOFFSETTO:+0200
TZNAME:CEST
END:DAYLIGHT
END:VTIMEZONE
END:VCALENDAR