BEGIN:VCALENDAR
VERSION:2.0
PRODID:-//wp-events-plugin.com//7.2.3.1//EN
TZID:Europe/Berlin
X-WR-TIMEZONE:Europe/Berlin
BEGIN:VEVENT
UID:409@digitalzentrum-rostock.de
DTSTART;TZID=Europe/Berlin:20260429T170000
DTEND;TZID=Europe/Berlin:20260429T190000
DTSTAMP:20260421T105354Z
URL:https://www.digitalzentrum-rostock.de/events/vitamin-b-netzwerken-impu
 lse-ki-zum-anfassen/
SUMMARY:Vitamin B – Netzwerken\, Impulse & KI zum Anfassen
DESCRIPTION:Wie lässt sich Künstliche Intelligenz konkret im Unternehmens
 alltag einsetzen? Welche Erfahrungen haben andere bereits gemacht – und 
 wo lohnt sich der Einstieg?\n\nMit unserer neuen Veranstaltungsreihe „Vi
 tamin B“ schaffen wir Raum für genau diesen Austausch: Begegnung\, Insp
 iration und praxisnahe Einblicke in Digitalisierung und KI.\n\nZum Auftakt
  laden wir Sie herzlich in den MakerPort Stralsund ein – einen Ort für 
 Ideen\, Innovation und Vernetzung.\n\nWas Sie erwartet:\n\nDie Veranstaltu
 ng verbindet einen kurzen fachlichen Impuls mit aktivem Austausch und Netw
 orking in entspannter Atmosphäre.\n\nIm Mittelpunkt steht die Frage: Wie 
 kann KI im eigenen Unternehmen sinnvoll eingesetzt werden – und wo stehe
 n wir heute?\n\nNeben einem praxisnahen Impuls erhalten Sie die Möglichke
 it\, eigene Erfahrungen einzubringen\, sich mit anderen Teilnehmenden ausz
 utauschen und neue Perspektiven zu gewinnen.\n\nAblauf:\n\n17:00 Uhr – A
 nkommen &amp\; Einstieg\n\n17:15 Uhr – Impuls: „Keine Angst vor KI: Vo
 n aktuellen Trends zu ersten Quick Wins im Arbeitsalltag“\n\n 	Der Vortr
 ag bietet einen verständlichen Überblick über das Thema generative KI u
 nd aktueller Entwicklungen - etwa wie KI‑Agenten heute bereits ganze Arb
 eitsschritte im Marketing übernehmen können. Gleichzeitig erfahren Sie\,
  wie Sie sich mit einfachen Chatbot‑ und Assistenten‑Anwendungen Schri
 tt für Schritt an das Thema herantasten und mithilfe Künstlicher Intelli
 genz erste Quick Wins im Arbeitsalltag erzielen können.\n\n17:45 Uhr – 
 Pause &amp\; informeller Austausch\n\nZeit für Gespräche bei Getränken 
 und Snacks\n\n18:00 Uhr – Reflexion &amp\; Austausch\n\nGemeinsamer Blic
 k auf Erfahrungen und Perspektiven\n\n18:15 Uhr – Impulse &amp\; Angebot
 e\n\nVorstellung des MakerPorts und des Mittelstand-Digital Zentrums Rosto
 ck als Anlaufstellen für Digitalisierung und KI\n\nEinblick in die „28-
 Tage-Challenge“ als niedrigschwelliger Einstieg\n\nab 18:30 Uhr – Netz
 werken &amp\; Austausch\n\nOffener Dialog an Thementischen und Metaplanwä
 nden – bringen Sie Ihre Fragen\, Ideen und Themen mit!\n\n&nbsp\;\n\nFü
 r wen ist die Veranstaltung geeignet?\n\nDie Veranstaltung richtet sich an
 :\n\n 	Unternehmen und Organisationen mit Interesse an Digitalisierung und
  KI\n 	Einsteigerinnen und Einsteiger ebenso wie Fortgeschrittene\n 	Multi
 plikatoren und Netzwerke aus Wirtschaft und Innovation\n 	Alle Interessier
 ten\n\n&nbsp\;\n\nDie Teilnahme ist kostenfrei. Die Plätze sind begrenzt.
 \n\nWir freuen uns auf einen inspirierenden Abend mit Ihnen – zum Austau
 sch\, Vernetzen und gemeinsamen Weiterdenken.
ATTACH;FMTTYPE=image/jpeg:https://www.digitalzentrum-rostock.de/wp-content
 /uploads/2026/03/Instagram-Beitrag-Vitamin-B-1080-x-1080-px-1-002-scaled.p
 ng
CATEGORIES:Bauwesen,branchenübergreifend,Tourismus
LOCATION:MakerPort Stralsund\, Wasserstraße 68\, Stralsund\, 18439\, Deuts
 chland
X-APPLE-STRUCTURED-LOCATION;VALUE=URI;X-ADDRESS=Wasserstraße 68\, Stralsun
 d\, 18439\, Deutschland;X-APPLE-RADIUS=100;X-TITLE=MakerPort Stralsund:geo
 :0,0
END:VEVENT
BEGIN:VTIMEZONE
TZID:Europe/Berlin
X-LIC-LOCATION:Europe/Berlin
BEGIN:DAYLIGHT
DTSTART:20260329T030000
TZOFFSETFROM:+0100
TZOFFSETTO:+0200
TZNAME:CEST
END:DAYLIGHT
END:VTIMEZONE
END:VCALENDAR