BEGIN:VCALENDAR
VERSION:2.0
PRODID:-//wp-events-plugin.com//7.2.3.1//EN
TZID:Europe/Berlin
X-WR-TIMEZONE:Europe/Berlin
BEGIN:VEVENT
UID:137@digitalzentrum-rostock.de
DTSTART;TZID=Europe/Berlin:20240404T100000
DTEND;TZID=Europe/Berlin:20240404T140000
DTSTAMP:20240328T122231Z
URL:https://www.digitalzentrum-rostock.de/events/tag-der-kuenstlichen-inte
 lligenz/
SUMMARY:Tag der Künstlichen Intelligenz
DESCRIPTION:\n\n\nTAG DER KÜNSTLICHEN INTELLIGENZ AN DER UNIVERSITÄTSMEDI
 ZIN ROSTOCK\nAm Tag der KI wollen wir Ihnen einen Einblick geben\, wie Ku
 ̈nstliche Intelligenz in der Medizin angewendet wird und welche Vorteile 
 die Nutzung von KI für die tägliche Arbeit in der Klinik und in der Wi
 ssenschaft bringt. Wir präsentieren Ihnen Beispiele u.a. aus der Univers
 itätsmedizin Rostock und der Fakultät für Informatik und Elektrotech
 nik der Universität Rostock. Dazu gehören Bildgebung\, Demenz- und Bio
 materialforschung\, Genomforschung\, sowie die Visualisierung großer Date
 nmengen. Qualitätskriterien für die sinnvolle Anwendung von KI könne
 n uns Hinweise geben\, die besten Methoden für die Praxis auszuwählen.
 \nMit den geplanten Besetzungen der beiden Brückenprofessuren zu „Inte
 lligente Systeme in der Medizin“ und „Künstliche Intelligenz und Dem
 enzforschung“\, betonen wir den hohen Stellenwert der KI an der Universi
 tätsmedizin Rostock. Zudem pflegen wir eine enge Kooperation zwischen de
 r Universitätsmedizin Rostock und den Fakultäten der Universität Ros
 tock\, so wie hier mit der Fakultät für Informatik und Elektrotechnik.
  Zusammen mit der Universität Rostock wurde die Forschungsinitiative AI4
 SmartTechnologies mit dem Ziel gegründet\, KI-Gesundheitstechnologien fu
 ̈r und mit Patienten im Flächenland MV auf universitärer Ebene zu ent
 wickeln und in nationale Lösungen und wirtschaftliche Anwendungen zu ü
 berführen.\n\nDas volle Programm finden Sie hier.\n\nMelden Sie sich ger
 n für diesen spannenden Tag an und freuen Sie sich auf einen interessante
 n Austausch mit Akteuren aus der Gesundheitswirtschaft und der KI-Communit
 y.\n\n\n\n
ATTACH;FMTTYPE=image/jpeg:https://www.digitalzentrum-rostock.de/wp-content
 /uploads/2024/03/T-D-KI.png
CATEGORIES:Gesundheit,Gesundheitstourismus,Medizintechnik
LOCATION:Arno-Esch-Hörsaal der Universität Rostock\, Campus Ulmenstraße 
 69\, Rostock\, 18057\, Demokratische Volksrepublik Korea
X-APPLE-STRUCTURED-LOCATION;VALUE=URI;X-ADDRESS=Campus Ulmenstraße 69\, Ro
 stock\, 18057\, Demokratische Volksrepublik Korea;X-APPLE-RADIUS=100;X-TIT
 LE=Arno-Esch-Hörsaal der Universität Rostock:geo:0,0
END:VEVENT
BEGIN:VTIMEZONE
TZID:Europe/Berlin
X-LIC-LOCATION:Europe/Berlin
BEGIN:DAYLIGHT
DTSTART:20240331T030000
TZOFFSETFROM:+0100
TZOFFSETTO:+0200
TZNAME:CEST
END:DAYLIGHT
END:VTIMEZONE
END:VCALENDAR