BEGIN:VCALENDAR
VERSION:2.0
PRODID:-//wp-events-plugin.com//7.2.3.1//EN
TZID:Europe/Berlin
X-WR-TIMEZONE:Europe/Berlin
BEGIN:VEVENT
UID:75@digitalzentrum-rostock.de
DTSTART;TZID=Europe/Berlin:20231025T150000
DTEND;TZID=Europe/Berlin:20231025T160000
DTSTAMP:20230719T121815Z
URL:https://www.digitalzentrum-rostock.de/events/online-informationsverans
 taltung-live-demonstration-online-marketing-18/
SUMMARY:Online-Informationsveranstaltung: Live-Demonstration – Online-Mar
 keting
DESCRIPTION:Holen Sie das Maximum aus Ihrem Unternehmen raus? Gibt es Poten
 ziale\, die Sie ausschöpfen können? Erleben Sie live die Möglichkeiten 
 und Nutzung von Online-Marketing mit dem interaktiven Demonstrator des Mit
 telstand-Digital Zentrums Rostock. Die Live-Demonstration findet als Onlin
 e-Videokonferenz statt. Unterschieden wird in folgende Bereiche:\n\n 	Such
 maschinenoptimierung (SEO)\n 	Web-Analyse\n\nZielgruppe:\n\nDie Veranstalt
 ung richtet sich an kleine und mittlere Unternehmen aus folgenden Branchen
 :\n\n 	Tourismuswirtschaft\n 	Gesundheitstourismus\n 	Gesundheitswirtschaf
 t\n 	Alle Interessierten\n\nTechnische / fachliche Voraussetzungen:\n\nFü
 r die Teilnahme an der Online-Videokonferenz sind ein Computer mit Mikrofo
 n und Webcam sowie ein Internetanschluss erforderlich. Alternativ kann auc
 h ein Tablet-PC oder ein Smartphone verwendet werden.\n\nDie Veranstaltung
  ist kostenfrei. Die Zugangsdaten werden Ihnen vor der Veranstaltung zuges
 chickt.\n\nAnsprechpartner:\n\n 	Name: Alexander Misch\n 	Mail: alexander.
 misch@hochschule-stralsund.de\n
ATTACH;FMTTYPE=image/jpeg:https://www.digitalzentrum-rostock.de/wp-content
 /uploads/2023/01/Online-Marketing.png
CATEGORIES:branchenübergreifend,Gesundheitstourismus,Tourismus
LOCATION:https://www.digitalzentrum-rostock.de/veranstaltungen/
END:VEVENT
BEGIN:VTIMEZONE
TZID:Europe/Berlin
X-LIC-LOCATION:Europe/Berlin
BEGIN:DAYLIGHT
DTSTART:20230326T030000
TZOFFSETFROM:+0100
TZOFFSETTO:+0200
TZNAME:CEST
END:DAYLIGHT
END:VTIMEZONE
END:VCALENDAR