BEGIN:VCALENDAR
VERSION:2.0
PRODID:-//wp-events-plugin.com//7.2.3.1//EN
TZID:Europe/Berlin
X-WR-TIMEZONE:Europe/Berlin
BEGIN:VEVENT
UID:411@digitalzentrum-rostock.de
DTSTART;TZID=Europe/Berlin:20260518T150000
DTEND;TZID=Europe/Berlin:20260518T160000
DTSTAMP:20260330T094202Z
URL:https://www.digitalzentrum-rostock.de/events/online-informationsverans
 taltung-live-demonstration-e-guides-im-tourismus-5/
SUMMARY:Online-Informationsveranstaltung: Live-Demonstration – E-Guides i
 m Tourismus
DESCRIPTION:Bereits seit einigen Jahren erobern E-Guides den Tourismus. Die
  digitalen Touristenführer aus Museen\, Ausstellungen oder als Stadtführ
 er kaum nach wegzudenken. Im Handumdrehen können Texte\, Audios und Bilde
 r hochladen und der Zielgruppe zur Verfügung gestellt werden.\n\nErfahren
  Sie hier\, welche Schritte sie beachten müssen\, um Ihre eigene digitale
  Tour zu erstellen. Dabei gehen wir auf die Vor- und Nachteile\, Kosten un
 d Rahmenbedingungen ein.\n\nWir freuen uns\, Sie begrüßen zu können.\n\
 nZiel der Veranstaltung:\n\n 	Kennenlernen der Möglichkeiten und Potentia
 len von E Guides\n 	Ausprobieren am Best-Practice Beispiel\n 	Raum für Fr
 agen zum Thema\n\nAblauf und Inhalt:\n\n 	IST-Analyse der Teilnehmenden\n\
 n\n 	Umfrage zum aktuellen Kenntnisstand über E-Guides\n\n\n 	Information
 svortrag zu E-Guides\n\n\n 	Definition und Bedeutung von E-Guides\n 	Darst
 ellung der Vorteile und Anwendungsbereiche\n\n\n 	Hands-on der Anwendungen
 \n\n\n 	Kurzvorstellung verschiedener Anbieter.\n 	Live-Demo der Anwendung
 en.\n 	Möglichkeit zum Selbstaustesten für Teilnehmende\n\n\n 	Feedback-
 Runde und Abschluss\n\n\n 	Fragen und Diskussion\n 	Hinweise auf weiterfü
 hrende Informationen\n\nZielgruppen:\n\n 	Tourismus\n 	Alle\, die interess
 iert sind\, sich in das Thema einzuarbeiten\n\nVoraussetzungen:\n\n 	Für 
 die Teilnahme an der Online-Videokonferenz sind ein Computer mit Mikrofon 
 und Webcam sowie ein Internetanschluss erforderlich. Des Weiteren ist ein 
 Tablet-PC oder ein Smartphone sinnvoll um die Mobile Anwendung zu testen.\
 n\nAnsprechpartner:\n\n 	Niklas Schueschke\n 	niklas.schueschke@hochschule
 -stralsund.de\n
ATTACH;FMTTYPE=image/jpeg:https://www.digitalzentrum-rostock.de/wp-content
 /uploads/2024/09/eguides.jpg
CATEGORIES:branchenübergreifend,Gesundheitstourismus,Tourismus
END:VEVENT
BEGIN:VTIMEZONE
TZID:Europe/Berlin
X-LIC-LOCATION:Europe/Berlin
BEGIN:DAYLIGHT
DTSTART:20260329T030000
TZOFFSETFROM:+0100
TZOFFSETTO:+0200
TZNAME:CEST
END:DAYLIGHT
END:VTIMEZONE
END:VCALENDAR