BEGIN:VCALENDAR
VERSION:2.0
PRODID:-//wp-events-plugin.com//7.2.3.1//EN
TZID:Europe/Berlin
X-WR-TIMEZONE:Europe/Berlin
BEGIN:VEVENT
UID:170@digitalzentrum-rostock.de
DTSTART;TZID=Europe/Berlin:20230821T150000
DTEND;TZID=Europe/Berlin:20230821T160000
DTSTAMP:20240709T091028Z
URL:https://www.digitalzentrum-rostock.de/events/online-informationsverans
 taltung-live-demonstration-data-science-23/
SUMMARY:Online-Informationsveranstaltung: Live-Demonstration – Data Scien
 ce
DESCRIPTION:Braucht Ihr Unternehmen das wirklich? Gibt es Potenziale\, die 
 Sie ausschöpfen können? Erleben Sie live die Auswertung von Daten und di
 e Möglichkeiten für Auswertungen mit dem interaktiven Demonstrator des M
 ittelstand-Digital Zentrums Rostock. Die Live-Demonstration findet als Onl
 ine-Videokonferenz statt. Unterschieden wird in folgende Bereiche:\n\n 	Ke
 nnen Sie Ihre Kunden?\n 	In 6 Klicks zur individuellen Analyse\n\nZielgrup
 pe:\n\nDie Veranstaltung richtet sich an kleine und mittlere Unternehmen a
 us folgenden Branchen:\n\n 	Tourismuswirtschaft\n 	Gesundheitstourismus\n 
 	Gesundheitswirtschaft\n 	Alle Interessierten\n\nTechnische / fachliche Vo
 raussetzungen:\n\nFür die Teilnahme an der Online-Videokonferenz sind ein
  Computer mit Mikrofon und Webcam sowie ein Internetanschluss erforderlich
 . Alternativ kann auch ein Tablet-PC oder ein Smartphone verwendet werden.
 \n\nDie Veranstaltung ist kostenfrei. Die Zugangsdaten werden Ihnen vor de
 r Veranstaltung zugeschickt.\n\nAnsprechpartner:\n\n 	Name: Waldemar Adam\
 n 	Mail: Waldemar.Adam@Hochschule-Stralsund.de\n
ATTACH;FMTTYPE=image/jpeg:https://www.digitalzentrum-rostock.de/wp-content
 /uploads/2023/01/Data-Science.png
CATEGORIES:branchenübergreifend,Gesundheitstourismus,Tourismus
LOCATION:https://www.digitalzentrum-rostock.de/veranstaltungen/
END:VEVENT
BEGIN:VTIMEZONE
TZID:Europe/Berlin
X-LIC-LOCATION:Europe/Berlin
BEGIN:DAYLIGHT
DTSTART:20230326T030000
TZOFFSETFROM:+0100
TZOFFSETTO:+0200
TZNAME:CEST
END:DAYLIGHT
END:VTIMEZONE
END:VCALENDAR