BEGIN:VCALENDAR
VERSION:2.0
PRODID:-//wp-events-plugin.com//7.2.3.1//EN
TZID:Europe/Berlin
X-WR-TIMEZONE:Europe/Berlin
BEGIN:VEVENT
UID:20@digitalzentrum-rostock.de
DTSTART;TZID=Europe/Berlin:20230418T140000
DTEND;TZID=Europe/Berlin:20230418T150000
DTSTAMP:20230328T140857Z
URL:https://www.digitalzentrum-rostock.de/events/numerische-stroemungssimu
 lationen-zur-produktentwicklung-in-der-medizintechnik/
SUMMARY:Numerische Strömungssimulationen zur Produktentwicklung in der Med
 izintechnik
DESCRIPTION:Im Rahmen des Online-Seminars des Instituts für ImplantatTechn
 ologie und Biomaterialien e.V. als Partner des Mittelstand-Digital Zentrum
 s Rostock werden den Teilnehmern die Grundlagen der Modellierung und der A
 nwendung numerischer Strömungssimulationen in der Medizinproduktentwicklu
 ng vorgestellt. Insbesondere die notwendigen Schritte von den Herausforder
 ungen bei der Modellierung medizinischer Anwendungen bis hin zum virtuelle
 n Prototypen werden ausführlich erläutert und es wird am Beispiel einer 
 numerischen Strömungssimulation ein Anwendungsbeispiel gegeben.\n\nRefere
 ntin: M.Sc. Finja Borowski\n\nZiele des Seminars:\n\n 	Vermittlung von Gru
 ndlagen der Modellierung und der Anwendung numerischer Strömungssimulatio
 nen in der Medizinproduktentwicklung\n 	Kennenlernen der notwendigen Schri
 tte von den Herausforderungen bei der Modellierung medizinischer Anwendung
 en bis hin zum virtuellen Prototypen\n\nZielgruppe:\n\n 	Führungspersonal
  in KMU der Medizintechnikbranche\n 	Mitarbeiterinnen und Mitarbeiter in K
 MU der Medizintechnikbranche\n 	Interessierte\n\nAnsprechpartner:\n\n 	Dr.
  Stefan Siewert\n 	0381 54345 603\n 	Stefan.siewert@uni-rostock.de\n\nDie 
 Veranstaltung ist kostenfrei. Die Zugangsdaten werden Ihnen vor der Verans
 taltung zugeschickt.
ATTACH;FMTTYPE=image/jpeg:https://www.digitalzentrum-rostock.de/wp-content
 /uploads/2023/03/Stroemung.jpg
CATEGORIES:Medizintechnik
LOCATION:https://www.digitalzentrum-rostock.de/veranstaltungen/
END:VEVENT
BEGIN:VTIMEZONE
TZID:Europe/Berlin
X-LIC-LOCATION:Europe/Berlin
BEGIN:DAYLIGHT
DTSTART:20230326T030000
TZOFFSETFROM:+0100
TZOFFSETTO:+0200
TZNAME:CEST
END:DAYLIGHT
END:VTIMEZONE
END:VCALENDAR