BEGIN:VCALENDAR
VERSION:2.0
PRODID:-//wp-events-plugin.com//7.2.3.1//EN
TZID:Europe/Berlin
X-WR-TIMEZONE:Europe/Berlin
BEGIN:VEVENT
UID:414@digitalzentrum-rostock.de
DTSTART;TZID=Europe/Berlin:20260506T160000
DTEND;TZID=Europe/Berlin:20260506T171500
DTSTAMP:20260410T113946Z
URL:https://www.digitalzentrum-rostock.de/events/kuenstliche-intelligenz-n
 achhaltigkeit-warum-fairness-eine-rolle-spielt/
SUMMARY:Künstliche Intelligenz & Nachhaltigkeit: Warum Fairness eine Rolle
  spielt
DESCRIPTION:Künstliche Intelligenz kann vieles erleichtern – doch welche
  Auswirkungen hat sie auf Umwelt und Gesellschaft?\nIn diesem Online-Vortr
 ag wird KI aus einer ganzheitlichen Perspektive betrachtet: von der Entwic
 klung über den Einsatz bis hin zu den benötigten technischen Infrastrukt
 uren im Hintergrund. Denn KI verbraucht Ressourcen\, braucht Energie und h
 at damit auch Einfluss auf Umwelt und Klima.\nGleichzeitig geht es um die 
 Frage der Fairness: Wer profitiert von KI – und wer trägt die Kosten? W
 elche Verantwortung haben Unternehmen beim Einsatz dieser Technologien?\nD
 er Vortrag zeigt verständlich und praxisnah\, warum Nachhaltigkeit und Ge
 rechtigkeit beim Thema KI zusammengehören. Sie erhalten Denkanstöße\, w
 ie Sie KI im eigenen Unternehmen bewusster und verantwortungsvoll einsetze
 n können.\nDie Veranstaltung ist für alle Teilnehmenden kostenfrei. Der 
 Vortrag findet online per Zoom statt. Der Zugangslink wird Ihnen nach der 
 Anmeldung zugeschickt.\nReferentin:\nDr. Friederike Rohde\, Brandenburgisc
 he Technische Universität &amp\; Berlin Ethics Lab\nFriederike Rohde ist 
 Techniksoziologin und befasst sich mit sozio-technischen Transformationspr
 ozessen an der Schnittstelle von Technologie\, nachhaltiger Entwicklung un
 d soziokulturellem Wandel. Ihre besondere Expertise liegt in den Bereichen
  Smart Grids\, Künstliche Intelligenz und grüne Technologien. Sie verfü
 gt über Erfahrung in inter- und transdisziplinären Arbeitskontexten und 
 arbeitet eng mit Akteuren der Zivilgesellschaft zusammen. Zu ihren aktuell
 en Forschungsschwerpunkten zählen die Analyse der gesellschaftlichen und 
 ökologischen Folgen neuer Technologien sowie die Erforschung des Wandels 
 von Infrastrukturen im regionalen Kontext.\nDie Veranstaltung findet im Ra
 hmen der Vortragsreihe „Digitalisierung und KI“ von Prof. Jasminko Nov
 ak im Masterstudiengang „Angewandte Data Science und Künstliche Intelli
 genz“ (DSKI) statt.
ATTACH;FMTTYPE=image/jpeg:https://www.digitalzentrum-rostock.de/wp-content
 /uploads/2026/04/Kopie-von-Kein-Titel-Titelbild-fuer-Facebook-Shops-quadra
 tisch.png
CATEGORIES:branchenübergreifend
END:VEVENT
BEGIN:VTIMEZONE
TZID:Europe/Berlin
X-LIC-LOCATION:Europe/Berlin
BEGIN:DAYLIGHT
DTSTART:20260329T030000
TZOFFSETFROM:+0100
TZOFFSETTO:+0200
TZNAME:CEST
END:DAYLIGHT
END:VTIMEZONE
END:VCALENDAR