BEGIN:VCALENDAR
VERSION:2.0
PRODID:-//wp-events-plugin.com//7.2.3.1//EN
TZID:Europe/Berlin
X-WR-TIMEZONE:Europe/Berlin
BEGIN:VEVENT
UID:397@digitalzentrum-rostock.de
DTSTART;TZID=Europe/Berlin:20260929T160000
DTEND;TZID=Europe/Berlin:20260929T170000
DTSTAMP:20260303T100510Z
URL:https://www.digitalzentrum-rostock.de/events/ki-sprechstunde-nachhalti
 ge-architektur-23/
SUMMARY:KI-Sprechstunde: Nachhaltige Architektur
DESCRIPTION:Wie kann Künstliche Intelligenz (KI) uns dabei unterstützen\,
  nachhaltige Gebäude zu entwerfen? Und welche Vorteile bieten KI-gestütz
 te Werkzeuge bei der Planung von energieeffizienten und ressourcenschonend
 en Bauwerken?\n\nAm 29. September 2026\, von 16:00 bis 17:00 Uhr\, laden w
 ir Sie herzlich zu unserer "KI-Sprechstunde: Nachhaltige Architektur" ein 
 – online und kostenfrei. In dieser Stunde stehen Ihnen unsere Mitarbeite
 r\, Aaron Schmidtke und Fiete Wulff\, für Ihre Fragen zur Verfügung. Mel
 den Sie sich jetzt an und profitieren Sie von unserem kostenfreien und una
 bhängigen Unterstützungsangebot!\n\nZur Anmeldung oder für Fragen im Vo
 rfeld schreiben Sie uns gerne eine E-Mail oder rufen Sie uns an. Wir freue
 n uns auf Ihre Teilnahme!\n\nAnsprechpartner\n\nName: Aaron Schmidtke\nMai
 l: a.schmidtke@stud.hs-wismar.de\n\nName: Fiete Wulff\nMail: fiete.wulff@h
 s-wismar.de\n\nDen Zugangslink erhalten Sie einige Tage vorher per Mail.
ATTACH;FMTTYPE=image/jpeg:https://www.digitalzentrum-rostock.de/wp-content
 /uploads/2024/10/Foto_KI_Demonstrator_2-1.jpg
CATEGORIES:Bauwesen,branchenübergreifend
END:VEVENT
BEGIN:VTIMEZONE
TZID:Europe/Berlin
X-LIC-LOCATION:Europe/Berlin
BEGIN:DAYLIGHT
DTSTART:20260329T030000
TZOFFSETFROM:+0100
TZOFFSETTO:+0200
TZNAME:CEST
END:DAYLIGHT
END:VTIMEZONE
END:VCALENDAR