BEGIN:VCALENDAR
VERSION:2.0
PRODID:-//wp-events-plugin.com//7.2.3.1//EN
TZID:Europe/Berlin
X-WR-TIMEZONE:Europe/Berlin
BEGIN:VEVENT
UID:271@digitalzentrum-rostock.de
DTSTART;TZID=Europe/Berlin:20250930T000000
DTEND;TZID=Europe/Berlin:20251002T000000
DTSTAMP:20250630T072553Z
URL:https://www.digitalzentrum-rostock.de/events/it-sicherheitskonferenz-2
 025/
SUMMARY:IT-Sicherheitskonferenz 2025
DESCRIPTION:Bereits zum 14. Mal lädt die Hochschule Stralsund zur IT-Siche
 rheitskonferenz ein – einem etablierten Forum für den Austausch rund um
  aktuelle Herausforderungen und Lösungen im Bereich der IT-Sicherheit.Vom
  30. September bis 2. Oktober 2025 treffen sich IT-Experten\, Fach- und F
 ührungskräfte sowie alle\, die sich für digitale Sicherheit interessier
 en – ob aus beruflichem Kontext oder aus privatem Interesse.In diesem Ja
 hr wird die IT-Sicherheitskonferenz gemeinsam von der Hochschule Stralsund
  und dem Mittelstand-Digital Zentrum Rostock veranstaltet. Hierdurch ist d
 ie Teilnahme an der Konferenz ist in diesem Jahr kostenlos – sowohl vor 
 Ort als auch online!Die Konferenz findet hybrid statt – Sie können also
  entweder live auf dem Campus in Stralsund dabei sein oder sich bequem per
  Livestream zuschalten. Freuen Sie sich auf drei spannende Tage mit Fachvo
 rträgen\, praxisnahen Einblicken und interaktiven Diskussionsrunden. Refe
 rentinnen und Referenten aus Wissenschaft\, Wirtschaft und Verwaltung teil
 en ihre Erfahrungen und zeigen\, wie IT-Sicherheit heute strategisch gedac
 ht und umgesetzt werden kann.Im Mittelpunkt stehen nicht nur technische Th
 emen\, sondern auch strategische und organisatorische Fragestellungen\, wi
 e Governance und Compliance der IT-Sicherheit\, das Management von IT-Sich
 erheitsrisiken\, die Umsetzung der NIS2-Anforderungen oder die Rolle IT-Si
 cherheitsrichtlinien – und wie Unternehmen diesen Anforderungen begegnen
  können. Die IT-Sicherheitskonferenz bietet Ihnen die Gelegenheit\, neue 
 Impulse zu gewinnen\, konkrete Lösungsansätze kennenzulernen und sich mi
 t Gleichgesinnten zu vernetzen.Ob Sie tief in der Materie stecken oder ers
 te Einblicke in die Welt der IT-Sicherheit suchen – die Veranstaltung h
 ält für alle Teilnehmenden spannende Inhalte bereit.Hier geht es zur Anm
 eldungMehr Infos zur IT-Sicherheitskonferenz \n\n\nAnsprechpartner: Lukas 
 Noack-Sandring\nlukas.noack-sandring@hochschule-stralsund.de\n&nbsp\;\n\n&
 nbsp\;\n\n
ATTACH;FMTTYPE=image/jpeg:https://www.digitalzentrum-rostock.de/wp-content
 /uploads/2025/04/IT-Sicherheitskonferenz-CONFERENCE.png
CATEGORIES:branchenübergreifend
LOCATION:Hochschule Stralsund - Fakultät Wirtschaft\, Zur Schwedenschanze 
 15 / Haus 21\, Stralsund\, Mecklenburg-Vorpommern\, 18435\, Deutschland
X-APPLE-STRUCTURED-LOCATION;VALUE=URI;X-ADDRESS=Zur Schwedenschanze 15 / Ha
 us 21\, Stralsund\, Mecklenburg-Vorpommern\, 18435\, Deutschland;X-APPLE-R
 ADIUS=100;X-TITLE=Hochschule Stralsund - Fakultät Wirtschaft:geo:0,0
END:VEVENT
BEGIN:VTIMEZONE
TZID:Europe/Berlin
X-LIC-LOCATION:Europe/Berlin
BEGIN:DAYLIGHT
DTSTART:20250330T030000
TZOFFSETFROM:+0100
TZOFFSETTO:+0200
TZNAME:CEST
END:DAYLIGHT
END:VTIMEZONE
END:VCALENDAR