BEGIN:VCALENDAR
VERSION:2.0
PRODID:-//wp-events-plugin.com//7.2.3.1//EN
TZID:Europe/Berlin
X-WR-TIMEZONE:Europe/Berlin
BEGIN:VEVENT
UID:403@digitalzentrum-rostock.de
DTSTART;TZID=Europe/Berlin:20260527T154000
DTEND;TZID=Europe/Berlin:20260527T155500
DTSTAMP:20260319T105036Z
URL:https://www.digitalzentrum-rostock.de/events/impulsvortrag-ki-einfuehr
 ung-gesundheit-der-mitarbeitenden/
SUMMARY:Impulsvortrag: KI-Einführung & Gesundheit der Mitarbeitenden
DESCRIPTION:Impulsvortrag: KI-Einführung und Gesundheit von Mitarbeitenden
 \nKünstliche Intelligenz verändert derzeit rasant Arbeitswelten und Gesu
 ndheitsversorgung. Aktuelle Forschung zeigt: KI kann Prozesse effizienter 
 gestalten\, Fachkräfte entlasten und sogar diagnostische Entscheidungen u
 nterstützen. Gleichzeitig entstehen neue Herausforderungen – etwa im Hi
 nblick auf mentale Belastung\, Vertrauen\, ethische Fragen und den kompete
 nten Umgang mit automatisierten Systemen.\nDer Impulsvortrag von David Joe
 cks (Hochschule Stralsund/ Mittelstand-Digital Zentrum Rostock) gibt Einbl
 icke in den aktuellen Forschungsstand und beleuchtet zentrale gesundheitsb
 ezogene Faktoren bei der KI-Einführung – von Arbeitsgestaltung über Ko
 mpetenzentwicklung bis hin zu organisationalen und ethischen Rahmenbedingu
 ngen.\nIm Fokus stehen konkrete Ansatzpunkte für eine menschengerechte un
 d gesundheitsförderliche Integration von KI: Wie lassen sich Risiken mini
 mieren und Potenziale nachhaltig nutzen?\nDer Vortrag wird auf der Greenst
 age im Rahmen der Nørd 2026 stattfinden. Eine Anmeldung ist nicht erforde
 rlich.\nMehr Infos zur größten Digitalmesse im Norden: https://www.digit
 alesmv.de/noerd
ATTACH;FMTTYPE=image/jpeg:https://www.digitalzentrum-rostock.de/wp-content
 /uploads/2026/03/noerd_partner_4zu5-e1773916455188.png
CATEGORIES:branchenübergreifend
LOCATION:HanseMesse Rostock\, Zur HanseMesse 1-2\, Rostock\, Mecklenburg-Vo
 rpommern\, 18106\, Deutschland
X-APPLE-STRUCTURED-LOCATION;VALUE=URI;X-ADDRESS=Zur HanseMesse 1-2\, Rostoc
 k\, Mecklenburg-Vorpommern\, 18106\, Deutschland;X-APPLE-RADIUS=100;X-TITL
 E=HanseMesse Rostock:geo:0,0
END:VEVENT
BEGIN:VTIMEZONE
TZID:Europe/Berlin
X-LIC-LOCATION:Europe/Berlin
BEGIN:DAYLIGHT
DTSTART:20260329T030000
TZOFFSETFROM:+0100
TZOFFSETTO:+0200
TZNAME:CEST
END:DAYLIGHT
END:VTIMEZONE
END:VCALENDAR