BEGIN:VCALENDAR
VERSION:2.0
PRODID:-//wp-events-plugin.com//7.2.3.1//EN
TZID:Europe/Berlin
X-WR-TIMEZONE:Europe/Berlin
BEGIN:VEVENT
UID:416@digitalzentrum-rostock.de
DTSTART;TZID=Europe/Berlin:20260512T160000
DTEND;TZID=Europe/Berlin:20260512T170000
DTSTAMP:20260417T101609Z
URL:https://www.digitalzentrum-rostock.de/events/generative-ki-personalisi
 erter-chatbot-auf-basis-ihrer-eigenen-daten-14/
SUMMARY:Generative KI: Personalisierter Chatbot auf Basis Ihrer eigenen Dat
 en
DESCRIPTION:Generative Künstliche Intelligenz (KI) kennzeichnet die Fähig
 keit von Maschinen\, aus vorliegenden Daten neue Inhalte zu erstellen. Uns
 er Demonstrator verwendet die OpenAI API und kombiniert diese mit internen
  Daten eines fiktiven Hotels\, um ein potenzielles Chatbot-System zu entwi
 ckeln.\n\nEr zeigt die Leistungsfähigkeit generativer KI auf\, indem er e
 inen Chatbot darstellt\, der die komplexen Zusammenhänge in der Hotelleri
 e - wie beispielsweise Buchungsmuster oder Saisonalitäten - analysieren u
 nd darstellen kann.  In der Onlineveranstaltung können Sie die Funktiona
 litäten des Chatbots live erleben und sich ein Bild von den Möglichkeite
 n machen\, die sich durch den Einsatz von KI im Tourismus ergeben.\n\nZiel
 gruppe:\n\nDie Veranstaltung richtet sich an kleine und mittlere Unternehm
 en aus allen Branchen mit Fokus auf folgende Bereiche:\n\n 	Tourismuswirts
 chaft\n 	Gesundheitstourismus\n 	Gesundheitswirtschaft\n 	Alle Interessier
 ten\n\nTechnische / fachliche Voraussetzungen:\n\nFür die Teilnahme an de
 r Online-Videokonferenz sind ein Computer mit Mikrofon und Webcam sowie ei
 n Internetanschluss erforderlich. Alternativ kann auch ein Tablet-PC oder 
 ein Smartphone verwendet werden.\n\nDie Veranstaltung ist kostenfrei. Die 
 Zugangsdaten werden Ihnen vor der Veranstaltung zugeschickt.\n\nAnsprechpa
 rtner:\n\n 	Name: Nikolas Garske\n 	Mail: Nikolas.J.Garske@hochschule-stra
 lsund.de\n
ATTACH;FMTTYPE=image/jpeg:https://www.digitalzentrum-rostock.de/wp-content
 /uploads/2024/04/AI.jpg
CATEGORIES:branchenübergreifend,Gesundheitstourismus,Tourismus
END:VEVENT
BEGIN:VTIMEZONE
TZID:Europe/Berlin
X-LIC-LOCATION:Europe/Berlin
BEGIN:DAYLIGHT
DTSTART:20260329T030000
TZOFFSETFROM:+0100
TZOFFSETTO:+0200
TZNAME:CEST
END:DAYLIGHT
END:VTIMEZONE
END:VCALENDAR