BEGIN:VCALENDAR
VERSION:2.0
PRODID:-//wp-events-plugin.com//7.2.3.1//EN
TZID:Europe/Berlin
X-WR-TIMEZONE:Europe/Berlin
BEGIN:VEVENT
UID:385@digitalzentrum-rostock.de
DTSTART;TZID=Europe/Berlin:20260519T073000
DTEND;TZID=Europe/Berlin:20260519T180000
DTSTAMP:20260421T082229Z
URL:https://www.digitalzentrum-rostock.de/events/fokustag-kuenstliche-inte
 lligenz/
SUMMARY:Fokustag "Künstliche Intelligenz"
DESCRIPTION:Save the Date:\nFokustag „Künstliche Intelligenz“ – 19. 
 Mai 2026\nKünstliche Intelligenz ist längst mehr als ein Trend – sie v
 erändert Geschäftsmodelle\, Prozesse und Entscheidungswege nachhaltig. D
 och welche Chancen bietet KI konkret für kleine und mittelständische Unt
 ernehmen? Und was ist rechtlich zu beachten?\nUnser Fokustag am 19. Mai gi
 bt praxisnahe Antworten – kompakt\, verständlich und direkt umsetzbar.\
 nEarly Bird Session (7.30 - 8.15 Uhr):KI-Tools im Überblick – von Effiz
 ienzsteigerung bis Content-Erstellung. Lernen Sie ausgewählte Anwendungen
  kennen und erfahren Sie\, wie Sie diese gewinnbringend in Ihrem Unternehm
 en einsetzen können.\nLunch Session (12.00 - 13.00 Uhr):Rechtssicher durc
 hstarten – Bildrecht und regulatorische Anforderungen im Kontext des eur
 opäischen AI Act. Wir zeigen\, worauf es ankommt und wie Sie Risiken verm
 eiden.\nAfter Work Session (16.00 - 17.00 Uhr):KI in der Praxis – konkre
 te Anwendungsbeispiele aus dem Unternehmensalltag. Erfahren Sie\, wie KI P
 rozesse optimiert\, Ressourcen spart und Innovationspotenziale hebt.\nOb E
 instieg oder Vertiefung – dieser Tag bietet Orientierung\, Impulse und R
 aum für Austausch.Sensibilisieren Sie Ihr Unternehmen für die Möglichke
 iten von KI – fundiert\, praxisnah und zukunftsorientiert.\nDie genauen 
 Zeiten der einzelnen Sessions folgen noch. Pro Session ist eine Dauer von 
 ca. 45 Minuten bis 2 Stunden vorgesehen.
ATTACH;FMTTYPE=image/jpeg:https://www.digitalzentrum-rostock.de/wp-content
 /uploads/2026/02/Kopie-von-Kopie-von-Fokuswoche-Kuenstliche-Intelligenz.pn
 g
CATEGORIES:branchenübergreifend
END:VEVENT
BEGIN:VTIMEZONE
TZID:Europe/Berlin
X-LIC-LOCATION:Europe/Berlin
BEGIN:DAYLIGHT
DTSTART:20260329T030000
TZOFFSETFROM:+0100
TZOFFSETTO:+0200
TZNAME:CEST
END:DAYLIGHT
END:VTIMEZONE
END:VCALENDAR