BEGIN:VCALENDAR
VERSION:2.0
PRODID:-//wp-events-plugin.com//7.2.3.1//EN
TZID:Europe/Berlin
X-WR-TIMEZONE:Europe/Berlin
BEGIN:VEVENT
UID:417@digitalzentrum-rostock.de
DTSTART;TZID=Europe/Berlin:20260507T150000
DTEND;TZID=Europe/Berlin:20260507T163000
DTSTAMP:20260417T110046Z
URL:https://www.digitalzentrum-rostock.de/events/demonstratoren-nachmittag
 -generative-ki/
SUMMARY:Demonstratoren-Nachmittag: Generative KI
DESCRIPTION:In dieser Online-Veranstaltung stellen wir Ihnen nacheinander z
 wei verschiedene Ansätze vor\, wie generative KI auf Basis fiktiver Hotel
 daten genutzt werden kann:\nDemonstrator 1: Personalisierte Chatbots\nGene
 rative Künstliche Intelligenz (KI) kennzeichnet die Fähigkeit von Maschi
 nen\, aus vorliegenden Daten neue Inhalte zu erstellen. Unser Demonstrator
  verwendet die OpenAI API und kombiniert diese mit internen Daten eines fi
 ktiven Hotels\, um ein potenzielles Chatbot-System zu entwickeln. Er zeigt
  die Leistungsfähigkeit generativer KI auf\, indem er einen Chatbot darst
 ellt\, der die komplexen Zusammenhänge in der Hotellerie - wie beispielsw
 eise Buchungsmuster oder Saisonalitäten - analysieren und darstellen kann
 .  In der Onlineveranstaltung können Sie die Funktionalitäten des Chatb
 ots live erleben und sich ein Bild von den Möglichkeiten machen\, die sic
 h durch den Einsatz von KI im Tourismus ergeben.\nDemonstrator 2: Lokale C
 hatbots\nUnser Demonstrator nutzt lokale Sprachmodelle (LLMs) und kombinie
 rt diese mit Buchungsdaten eines fiktiven Hotels\, um ein leistungsstarkes
  KI-System zu entwickeln. In dieser Online-Veranstaltung zeigen wir Ihnen\
 , wie Sie ein solches System mit unternehmenseigenen Daten personalisieren
  können\, um präzise\, maßgeschneiderte Antworten zu generieren. Entdec
 ken Sie die Möglichkeiten\, die der Einsatz von KI im Tourismus bietet. E
 s werden auch lokale Systeme vorgestellt\, die keine externe Cloud benöti
 gen. Außerdem wird auf die Leistungs- und Qualitätsüberlegungen eingega
 ngen\, die mit solchen Systemen verbunden sind. Darüber hinaus werden die
  Möglichkeiten einer individuellen Feinabstimmung der KI-Modelle betracht
 et.\nNutzen Sie die Gelegenheit\, beide Systeme im Einsatz zu erleben und 
 sich ein Bild von den unterschiedlichen Funktionalitäten und Einsatzmögl
 ichkeiten zu machen.\nZielgruppe:\n\nDie Veranstaltung richtet sich an kle
 ine und mittlere Unternehmen aus allen Branchen mit Fokus auf folgende Ber
 eiche:\n\n 	Tourismuswirtschaft\n 	Gesundheitstourismus\n 	Alle Interessie
 rten\n\nTechnische / fachliche Voraussetzungen:\n\nFür die Teilnahme an d
 er Online-Videokonferenz sind ein Computer mit Mikrofon und Webcam sowie e
 in Internetanschluss erforderlich. Alternativ kann auch ein Tablet-PC oder
  ein Smartphone verwendet werden.\n\nDie Veranstaltung ist kostenfrei. Die
  Zugangsdaten werden Ihnen vor der Veranstaltung zugeschickt.\n\nAnsprechp
 artner:\n\n 	Name: Nikolas Garske\n 	Mail: Nikolas.J.Garske@hochschule-str
 alsund.de\n
ATTACH;FMTTYPE=image/jpeg:https://www.digitalzentrum-rostock.de/wp-content
 /uploads/2026/04/Demonstratoren-KI.png
CATEGORIES:branchenübergreifend,Gesundheitstourismus,Tourismus
END:VEVENT
BEGIN:VTIMEZONE
TZID:Europe/Berlin
X-LIC-LOCATION:Europe/Berlin
BEGIN:DAYLIGHT
DTSTART:20260329T030000
TZOFFSETFROM:+0100
TZOFFSETTO:+0200
TZNAME:CEST
END:DAYLIGHT
END:VTIMEZONE
END:VCALENDAR