BEGIN:VCALENDAR
VERSION:2.0
PRODID:-//wp-events-plugin.com//7.2.3.1//EN
TZID:Europe/Berlin
X-WR-TIMEZONE:Europe/Berlin
BEGIN:VEVENT
UID:418@digitalzentrum-rostock.de
DTSTART;TZID=Europe/Berlin:20260428T143000
DTEND;TZID=Europe/Berlin:20260428T153000
DTSTAMP:20260421T162319Z
URL:https://www.digitalzentrum-rostock.de/events/baustellenbesichtigung-ei
 nfach-bauen-bauen-mit-holzsystem/
SUMMARY:Baustellenbesichtigung "Einfach Bauen – Bauen mit Holzsystem"
DESCRIPTION:Wir laden Sie herzlich zur Baustellenbesichtigung am Dienstag\,
  den 28. April 2026\, in Kirchdorf auf der Insel Poel ein. Vor Ort entsteh
 t derzeit eine moderne Arztpraxis in innovativer Holzbauweise. Nutzen Sie 
 die Gelegenheit\, Einblicke in die Bauweise\, Planung und Umsetzung dieses
  Projekts zu erhalten.\nTreffpunkt: Kirchdorf (Nähe der Insel-Apotheke) E
 cke Wismarsche Straße/Reuterhöhe um 14:30 Uhr.\nWir freuen uns sehr übe
 r Ihre Teilnahme!
ATTACH;FMTTYPE=image/jpeg:https://www.digitalzentrum-rostock.de/wp-content
 /uploads/2026/04/12.jpg
CATEGORIES:Bauwesen,branchenübergreifend
END:VEVENT
BEGIN:VTIMEZONE
TZID:Europe/Berlin
X-LIC-LOCATION:Europe/Berlin
BEGIN:DAYLIGHT
DTSTART:20260329T030000
TZOFFSETFROM:+0100
TZOFFSETTO:+0200
TZNAME:CEST
END:DAYLIGHT
END:VTIMEZONE
END:VCALENDAR