BEGIN:VCALENDAR
VERSION:2.0
PRODID:-//wp-events-plugin.com//7.2.3.1//EN
TZID:Europe/Berlin
X-WR-TIMEZONE:Europe/Berlin
BEGIN:VEVENT
UID:401@digitalzentrum-rostock.de
DTSTART;TZID=Europe/Berlin:20260701T170000
DTEND;TZID=Europe/Berlin:20260701T190000
DTSTAMP:20260318T141720Z
URL:https://www.digitalzentrum-rostock.de/events/apotheken-stammtisch-rost
 ock-zwischen-google-sternen-und-ki-suche-wie-ihre-apotheke-sichtbar-bleibt
 /
SUMMARY:Apotheken-Stammtisch Rostock: „Zwischen Google-Sternen und KI-Suc
 he: Wie Ihre Apotheke sichtbar wird“
DESCRIPTION:Wir\, das Mittelstand-Digital Zentrum Rostock laden am 01. Juli
  2026 herzlich zu unserem dritten Apotheken-Stammtisch in die Deutsche Med
  in Rostock ein.\nVon 17:00 bis 19:00 Uhr dreht sich alles um das Thema: S
 ichtbarkeit von Apotheken im digitalen Wandel \nWas erwartet Sie?\n\n\n 	
  Begrüßung und Vorstellung des Mittelstand-Digital Zentrum Rostock\nSilv
 ia Rydlewicz (Leiterin Mittelstand-Digital Zentrum Rostock)\nZu Beginn der
  Veranstaltung stellt Silvia Rydlewicz die Arbeit des Mittelstand-Digital 
 Zentrum Rostock vor. Sie erhalten einen Überblick darüber\, wie wir klei
 ne und mittlere Unternehmen bei der Digitalisierung unterstützen.\n 	Einf
 ührung Onlinebewertungen als Erfolgsfaktor für Apotheken\nMaximilian Vo
 ß (Geschäftsführer Trustdino)\nErfahren Sie\, warum Google-Bewertungen 
 heute eine zentrale Rolle für die Sichtbarkeit Ihrer Apotheke spielen und
  wie Sie aktiv Vertrauen bei Ihren Kundinnen und Kunden aufbauen können.\
 n\n\n 	Besser gefunden werden mit KI: Suchoptimierung für Apotheken\nMaxi
 milian Voß (Geschäftsführer Trustdino)\nLernen Sie\, wie sich die Onlin
 e-Suche durch Künstliche Intelligenz verändert und was das konkret für 
 Ihre Apotheke bedeutet. Sie erhalten praxisnahe Einblicke\, wie Sie auch i
 n Zukunft gut gefunden werden.\n\n\n 	\n\n\n 	 Networking &amp\; kleiner I
 mbiss\nNach den inhaltlichen Impulsen bleibt Zeit\, den Nachmittag entspan
 nt ausklingen zu lassen. Tauschen Sie sich bei kleinen Häppchen und erfri
 schenden Getränken mit Kolleginnen und Kollegen sowie unseren Expertinnen
  und Experten aus\, knüpfen Sie neue Kontakte und lassen Sie sich inspiri
 eren.\n\nGestalten Sie die digitale Zukunft Ihrer Apotheke aktiv mit. Die 
 Teilnahme ist für sie kostenfrei!
ATTACH;FMTTYPE=image/jpeg:https://www.digitalzentrum-rostock.de/wp-content
 /uploads/2026/03/Apothekenstammtisch1-scaled.png
CATEGORIES:Gesundheit,Gesundheitstourismus
LOCATION:Mittelstand-Digital Zentrum Rostock\, Deutsche Med Platz 1\, Rosto
 ck\, Mecklenburg-Vorpommern\, 18057\, Deutschland
X-APPLE-STRUCTURED-LOCATION;VALUE=URI;X-ADDRESS=Deutsche Med Platz 1\, Rost
 ock\, Mecklenburg-Vorpommern\, 18057\, Deutschland;X-APPLE-RADIUS=100;X-TI
 TLE=Mittelstand-Digital Zentrum Rostock:geo:0,0
END:VEVENT
BEGIN:VTIMEZONE
TZID:Europe/Berlin
X-LIC-LOCATION:Europe/Berlin
BEGIN:DAYLIGHT
DTSTART:20260329T030000
TZOFFSETFROM:+0100
TZOFFSETTO:+0200
TZNAME:CEST
END:DAYLIGHT
END:VTIMEZONE
END:VCALENDAR